BEGIN:VCALENDAR
VERSION:2.0
PRODID:-//Eventin//Event Calendar//EN
CALSCALE:GREGORIAN
METHOD:PUBLISH
BEGIN:VEVENT
UID:b6c1a0d8e942d6ffe591900fdae5be76@bumblebeez.nl
SUMMARY:Workshop Miniaturen schilderen 31/5
DESCRIPTION:Wil jij leren hoe je het beste een miniatuur kunt schilderen? D
 at kan zijn voor Warhammer\, maar ook bijvoorbeeld voor D&D of een ander sp
 el wat miniaturen gebruikt. Kom dan op zondag 31 mei van 11:00 – 16:00 na
 ar Bumblebeez Spellenwinkel.\nDeelname: €2\,50\nMeld je aan door een tick
 et te reserveren.\nKinderen tm 14 jaar zijn welkom onder begeleiding van ee
 n volwassene.
LOCATION:Kremerstraat 6 Bergen op Zoom
DTSTAMP:20260420T110202Z
DTSTART:20260531T090000Z
DTEND:20260531T140000Z
END:VEVENT
END:VCALENDAR
