BEGIN:VCALENDAR
VERSION:2.0
PRODID:-//Eventin//Event Calendar//EN
CALSCALE:GREGORIAN
METHOD:PUBLISH
BEGIN:VEVENT
UID:04641534fb2cb9afe077240c19b93529@bumblebeez.nl
SUMMARY:Warhammer 20/6
DESCRIPTION:Gezellig samen een potje Warhammer spelen? Dat kan op zaterdag 
 20 juni van 11:00 tot 16:00.\nDeelname: €2\,50\, je krijgt hiervoor €2\
 ,50 shoptegoed.\nMeld je aan door tickets te reserveren.\nKinderen tm 12 ja
 ar zijn welkom onder begeleiding van een volwassene.
LOCATION:Kremerstraat 6 Bergen op Zoom
DTSTAMP:20260420T110158Z
DTSTART:20260620T090000Z
DTEND:20260620T140000Z
END:VEVENT
END:VCALENDAR
