BEGIN:VCALENDAR
VERSION:2.0
PRODID:-//Eventin//Event Calendar//EN
CALSCALE:GREGORIAN
METHOD:PUBLISH
BEGIN:VEVENT
UID:aca4e8b0e491c039c38187c2a27fb75e@bumblebeez.nl
SUMMARY:TCG middag 6/6
DESCRIPTION:Tijdens deze middag kunnen er verschillende TCG's gespeeld word
 en: YGO\, Altered\, Disney Lorcana\, Flesh and Blood\, One Piece en Riftbou
 nd.\nMeld je aan voor de TCG die jij wil spelen. \nDeelname: €2\,50. Je 
 ontvangt hiervoor €2\,50 shoptegoed.\nPrizesupport: je krijgt een promo v
 an de TCG waaraan je meedoet. \nKinderen tm 12 jaar zijn welkom onder bege
 leiding van een volwassene.
LOCATION:Kremerstraat 6 Bergen op Zoom
DTSTAMP:20260420T121344Z
DTSTART:20260606T110000Z
DTEND:20260606T150000Z
END:VEVENT
END:VCALENDAR
