BEGIN:VCALENDAR
VERSION:2.0
PRODID:-//Eventin//Event Calendar//EN
CALSCALE:GREGORIAN
METHOD:PUBLISH
BEGIN:VEVENT
UID:ba3f0baaf8100087541a013d6acbbc39@bumblebeez.nl
SUMMARY:Spellenavond @ O’Carolans Irish Pub 9/6
DESCRIPTION:Op dinsdag 9 juni is er weer een gezellige spellenavond in de I
 erse Pub. Dus heb je zin om een spel te spelen met een biertje erbij? Kom d
 an gezellig langs tussen 19:00 en 22:00.\nDeelname: €2\,50. Je ontvangt h
 iervoor €2\,50 shoptegoed.\nHeb je een specifiek spel dat je graag zou wi
 llen spelen? Laat het ons dan weten via whatsapp of spellenwinkel@bumblebee
 z.nl.\nMeld je hier aan om je plek te reserveren.\nKinderen tm 16 jaar zijn
  welkom onder begeleiding van een volwassene.
LOCATION:O'Carolans Irish Pub Moeregrebstraat 2 Bergen op Zoom
DTSTAMP:20260420T110200Z
DTSTART:20260609T170000Z
DTEND:20260609T200000Z
END:VEVENT
END:VCALENDAR
